Workbook

Sheet Start here
A1: Holt-Winters forecasting practice workbook
A3: Type your own formula in each yellow cell. The Check column tells you when it matches the green answer.
A4: 36 months of sales (Jan 2023 to Dec 2025) with a trend and a December peak. Multiplicative Holt-Winters, season length 12.
A5: Rows 2-13: the starting seasonal index of each month = sales / the year-1 average. Row 13 also holds the starting level (the year-1 average) and trend ((year-2 average - year-1 average) / 12).
A6: Rows 14-37: level = alpha*(sales / index 12 rows up) + (1-alpha)*(level + trend above); trend = beta*(level - level above) + (1-beta)*trend above; index = gamma*(sales / level) + (1-gamma)*index 12 rows up.
A7: Forecast sheet: (last level + h * last trend) * the index of the same month last year, a 95% band from the residuals, and Excel's own FORECAST.ETS beside it.
A8: Change alpha, beta and gamma in column P and watch the MAPE of year 3 move.
A10: The tutorial: https://www.datahubpro.co.uk/tutorials/holt-winters-in-excel
A11: Want this on your own spreadsheet? Upload it at https://www.datahubpro.co.uk/try (free, no sign-up)
A13: Made with DataHub Pro

Sheet Holt-Winters
A1: Month | B1: Sales | C1: Your turn: Seasonal index | D1: Check | E1: Answer (live formula) | F1: Your turn: Level | G1: Check | H1: Answer (live formula) | I1: Your turn: Trend | J1: Check | K1: Answer (live formula) | L1: One-step forecast | M1: Abs % error | N1: Error | O1: Alpha (level) | P1: 0.3
A2: 44927 | B2: 869 | D2: =IF(C2="","",IF(ABS(C2-E2)<0.0005,"Correct","Try again")) | E2: =B2/AVERAGE($B$2:$B$13) | O2: Beta (trend) | P2: 0.1
A3: 44958 | B3: 816 | D3: =IF(C3="","",IF(ABS(C3-E3)<0.0005,"Correct","Try again")) | E3: =B3/AVERAGE($B$2:$B$13) | O3: Gamma (season) | P3: 0.3
A4: 44986 | B4: 988 | D4: =IF(C4="","",IF(ABS(C4-E4)<0.0005,"Correct","Try again")) | E4: =B4/AVERAGE($B$2:$B$13) | O4: Season length | P4: 12
A5: 45017 | B5: 1014 | D5: =IF(C5="","",IF(ABS(C5-E5)<0.0005,"Correct","Try again")) | E5: =B5/AVERAGE($B$2:$B$13)
A6: 45047 | B6: 1071 | D6: =IF(C6="","",IF(ABS(C6-E6)<0.0005,"Correct","Try again")) | E6: =B6/AVERAGE($B$2:$B$13) | O6: MAPE, year 3 | P6: =AVERAGE(M26:M37)
A7: 45078 | B7: 1140 | D7: =IF(C7="","",IF(ABS(C7-E7)<0.0005,"Correct","Try again")) | E7: =B7/AVERAGE($B$2:$B$13) | O7: Residual std dev | P7: =_xlfn.STDEV.S(N14:N37)
A8: 45108 | B8: 1026 | D8: =IF(C8="","",IF(ABS(C8-E8)<0.0005,"Correct","Try again")) | E8: =B8/AVERAGE($B$2:$B$13)
A9: 45139 | B9: 1060 | D9: =IF(C9="","",IF(ABS(C9-E9)<0.0005,"Correct","Try again")) | E9: =B9/AVERAGE($B$2:$B$13)
A10: 45170 | B10: 1109 | D10: =IF(C10="","",IF(ABS(C10-E10)<0.0005,"Correct","Try again")) | E10: =B10/AVERAGE($B$2:$B$13)
A11: 45200 | B11: 1227 | D11: =IF(C11="","",IF(ABS(C11-E11)<0.0005,"Correct","Try again")) | E11: =B11/AVERAGE($B$2:$B$13)
A12: 45231 | B12: 1319 | D12: =IF(C12="","",IF(ABS(C12-E12)<0.0005,"Correct","Try again")) | E12: =B12/AVERAGE($B$2:$B$13)
A13: 45261 | B13: 1410 | D13: =IF(C13="","",IF(ABS(C13-E13)<0.0005,"Correct","Try again")) | E13: =B13/AVERAGE($B$2:$B$13) | G13: =IF(F13="","",IF(ABS(F13-H13)<0.0005,"Correct","Try again")) | H13: =AVERAGE(B2:B13) | J13: =IF(I13="","",IF(ABS(I13-K13)<0.0005,"Correct","Try again")) | K13: =(AVERAGE(B14:B25)-AVERAGE(B2:B13))/$P$4
A14: 45292 | B14: 1005 | D14: =IF(C14="","",IF(ABS(C14-E14)<0.0005,"Correct","Try again")) | E14: =$P$3*(B14/H14)+(1-$P$3)*E2 | G14: =IF(F14="","",IF(ABS(F14-H14)<0.0005,"Correct","Try again")) | H14: =$P$1*(B14/E2)+(1-$P$1)*(H13+K13) | J14: =IF(I14="","",IF(ABS(I14-K14)<0.0005,"Correct","Try again")) | K14: =$P$2*(H14-H13)+(1-$P$2)*K13 | L14: =(H13+K13)*E2 | M14: =ABS(B14-L14)/B14 | N14: =B14-L14
A15: 45323 | B15: 999 | D15: =IF(C15="","",IF(ABS(C15-E15)<0.0005,"Correct","Try again")) | E15: =$P$3*(B15/H15)+(1-$P$3)*E3 | G15: =IF(F15="","",IF(ABS(F15-H15)<0.0005,"Correct","Try again")) | H15: =$P$1*(B15/E3)+(1-$P$1)*(H14+K14) | J15: =IF(I15="","",IF(ABS(I15-K15)<0.0005,"Correct","Try again")) | K15: =$P$2*(H15-H14)+(1-$P$2)*K14 | L15: =(H14+K14)*E3 | M15: =ABS(B15-L15)/B15 | N15: =B15-L15
A16: 45352 | B16: 1115 | D16: =IF(C16="","",IF(ABS(C16-E16)<0.0005,"Correct","Try again")) | E16: =$P$3*(B16/H16)+(1-$P$3)*E4 | G16: =IF(F16="","",IF(ABS(F16-H16)<0.0005,"Correct","Try again")) | H16: =$P$1*(B16/E4)+(1-$P$1)*(H15+K15) | J16: =IF(I16="","",IF(ABS(I16-K16)<0.0005,"Correct","Try again")) | K16: =$P$2*(H16-H15)+(1-$P$2)*K15 | L16: =(H15+K15)*E4 | M16: =ABS(B16-L16)/B16 | N16: =B16-L16
A17: 45383 | B17: 1213 | D17: =IF(C17="","",IF(ABS(C17-E17)<0.0005,"Correct","Try again")) | E17: =$P$3*(B17/H17)+(1-$P$3)*E5 | G17: =IF(F17="","",IF(ABS(F17-H17)<0.0005,"Correct","Try again")) | H17: =$P$1*(B17/E5)+(1-$P$1)*(H16+K16) | J17: =IF(I17="","",IF(ABS(I17-K17)<0.0005,"Correct","Try again")) | K17: =$P$2*(H17-H16)+(1-$P$2)*K16 | L17: =(H16+K16)*E5 | M17: =ABS(B17-L17)/B17 | N17: =B17-L17
A18: 45413 | B18: 1290 | D18: =IF(C18="","",IF(ABS(C18-E18)<0.0005,"Correct","Try again")) | E18: =$P$3*(B18/H18)+(1-$P$3)*E6 | G18: =IF(F18="","",IF(ABS(F18-H18)<0.0005,"Correct","Try again")) | H18: =$P$1*(B18/E6)+(1-$P$1)*(H17+K17) | J18: =IF(I18="","",IF(ABS(I18-K18)<0.0005,"Correct","Try again")) | K18: =$P$2*(H18-H17)+(1-$P$2)*K17 | L18: =(H17+K17)*E6 | M18: =ABS(B18-L18)/B18 | N18: =B18-L18
A19: 45444 | B19: 1267 | D19: =IF(C19="","",IF(ABS(C19-E19)<0.0005,"Correct","Try again")) | E19: =$P$3*(B19/H19)+(1-$P$3)*E7 | G19: =IF(F19="","",IF(ABS(F19-H19)<0.0005,"Correct","Try again")) | H19: =$P$1*(B19/E7)+(1-$P$1)*(H18+K18) | J19: =IF(I19="","",IF(ABS(I19-K19)<0.0005,"Correct","Try again")) | K19: =$P$2*(H19-H18)+(1-$P$2)*K18 | L19: =(H18+K18)*E7 | M19: =ABS(B19-L19)/B19 | N19: =B19-L19
A20: 45474 | B20: 1232 | D20: =IF(C20="","",IF(ABS(C20-E20)<0.0005,"Correct","Try again")) | E20: =$P$3*(B20/H20)+(1-$P$3)*E8 | G20: =IF(F20="","",IF(ABS(F20-H20)<0.0005,"Correct","Try again")) | H20: =$P$1*(B20/E8)+(1-$P$1)*(H19+K19) | J20: =IF(I20="","",IF(ABS(I20-K20)<0.0005,"Correct","Try again")) | K20: =$P$2*(H20-H19)+(1-$P$2)*K19 | L20: =(H19+K19)*E8 | M20: =ABS(B20-L20)/B20 | N20: =B20-L20
A21: 45505 | B21: 1209 | D21: =IF(C21="","",IF(ABS(C21-E21)<0.0005,"Correct","Try again")) | E21: =$P$3*(B21/H21)+(1-$P$3)*E9 | G21: =IF(F21="","",IF(ABS(F21-H21)<0.0005,"Correct","Try again")) | H21: =$P$1*(B21/E9)+(1-$P$1)*(H20+K20) | J21: =IF(I21="","",IF(ABS(I21-K21)<0.0005,"Correct","Try again")) | K21: =$P$2*(H21-H20)+(1-$P$2)*K20 | L21: =(H20+K20)*E9 | M21: =ABS(B21-L21)/B21 | N21: =B21-L21
A22: 45536 | B22: 1326 | D22: =IF(C22="","",IF(ABS(C22-E22)<0.0005,"Correct","Try again")) | E22: =$P$3*(B22/H22)+(1-$P$3)*E10 | G22: =IF(F22="","",IF(ABS(F22-H22)<0.0005,"Correct","Try again")) | H22: =$P$1*(B22/E10)+(1-$P$1)*(H21+K21) | J22: =IF(I22="","",IF(ABS(I22-K22)<0.0005,"Correct","Try again")) | K22: =$P$2*(H22-H21)+(1-$P$2)*K21 | L22: =(H21+K21)*E10 | M22: =ABS(B22-L22)/B22 | N22: =B22-L22
A23: 45566 | B23: 1352 | D23: =IF(C23="","",IF(ABS(C23-E23)<0.0005,"Correct","Try again")) | E23: =$P$3*(B23/H23)+(1-$P$3)*E11 | G23: =IF(F23="","",IF(ABS(F23-H23)<0.0005,"Correct","Try again")) | H23: =$P$1*(B23/E11)+(1-$P$1)*(H22+K22) | J23: =IF(I23="","",IF(ABS(I23-K23)<0.0005,"Correct","Try again")) | K23: =$P$2*(H23-H22)+(1-$P$2)*K22 | L23: =(H22+K22)*E11 | M23: =ABS(B23-L23)/B23 | N23: =B23-L23
A24: 45597 | B24: 1572 | D24: =IF(C24="","",IF(ABS(C24-E24)<0.0005,"Correct","Try again")) | E24: =$P$3*(B24/H24)+(1-$P$3)*E12 | G24: =IF(F24="","",IF(ABS(F24-H24)<0.0005,"Correct","Try again")) | H24: =$P$1*(B24/E12)+(1-$P$1)*(H23+K23) | J24: =IF(I24="","",IF(ABS(I24-K24)<0.0005,"Correct","Try again")) | K24: =$P$2*(H24-H23)+(1-$P$2)*K23 | L24: =(H23+K23)*E12 | M24: =ABS(B24-L24)/B24 | N24: =B24-L24
A25: 45627 | B25: 1627 | D25: =IF(C25="","",IF(ABS(C25-E25)<0.0005,"Correct","Try again")) | E25: =$P$3*(B25/H25)+(1-$P$3)*E13 | G25: =IF(F25="","",IF(ABS(F25-H25)<0.0005,"Correct","Try again")) | H25: =$P$1*(B25/E13)+(1-$P$1)*(H24+K24) | J25: =IF(I25="","",IF(ABS(I25-K25)<0.0005,"Correct","Try again")) | K25: =$P$2*(H25-H24)+(1-$P$2)*K24 | L25: =(H24+K24)*E13 | M25: =ABS(B25-L25)/B25 | N25: =B25-L25
... A37: 45992 | B37: 1827 | D37: =IF(C37="","",IF(ABS(C37-E37)<0.0005,"Correct","Try again")) | E37: =$P$3*(B37/H37)+(1-$P$3)*E25 | G37: =IF(F37="","",IF(ABS(F37-H37)<0.0005,"Correct","Try again")) | H37: =$P$1*(B37/E25)+(1-$P$1)*(H36+K36) | J37: =IF(I37="","",IF(ABS(I37-K37)<0.0005,"Correct","Try again")) | K37: =$P$2*(H37-H36)+(1-$P$2)*K36 | L37: =(H36+K36)*E25 | M37: =ABS(B37-L37)/B37 | N37: =B37-L37

Sheet Forecast
A1: Month | B1: h | C1: Your turn: Forecast | D1: Check | E1: Answer (live formula) | F1: Lower 95% | G1: Upper 95% | H1: FORECAST.ETS (Excel's own)
A2: 46023 | B2: 1 | D2: =IF(C2="","",IF(ABS(C2-E2)<0.0005,"Correct","Try again")) | E2: =('Holt-Winters'!$H$37+B2*'Holt-Winters'!$K$37)*'Holt-Winters'!E26 | F2: =E2-1.96*'Holt-Winters'!$P$7 | G2: =E2+1.96*'Holt-Winters'!$P$7 | H2: =_xlfn.FORECAST.ETS(A2,'Holt-Winters'!$B$2:$B$37,'Holt-Winters'!$A$2:$A$37,12)
A3: 46054 | B3: 2 | D3: =IF(C3="","",IF(ABS(C3-E3)<0.0005,"Correct","Try again")) | E3: =('Holt-Winters'!$H$37+B3*'Holt-Winters'!$K$37)*'Holt-Winters'!E27 | F3: =E3-1.96*'Holt-Winters'!$P$7 | G3: =E3+1.96*'Holt-Winters'!$P$7 | H3: =_xlfn.FORECAST.ETS(A3,'Holt-Winters'!$B$2:$B$37,'Holt-Winters'!$A$2:$A$37,12)
A4: 46082 | B4: 3 | D4: =IF(C4="","",IF(ABS(C4-E4)<0.0005,"Correct","Try again")) | E4: =('Holt-Winters'!$H$37+B4*'Holt-Winters'!$K$37)*'Holt-Winters'!E28 | F4: =E4-1.96*'Holt-Winters'!$P$7 | G4: =E4+1.96*'Holt-Winters'!$P$7 | H4: =_xlfn.FORECAST.ETS(A4,'Holt-Winters'!$B$2:$B$37,'Holt-Winters'!$A$2:$A$37,12)
A5: 46113 | B5: 4 | D5: =IF(C5="","",IF(ABS(C5-E5)<0.0005,"Correct","Try again")) | E5: =('Holt-Winters'!$H$37+B5*'Holt-Winters'!$K$37)*'Holt-Winters'!E29 | F5: =E5-1.96*'Holt-Winters'!$P$7 | G5: =E5+1.96*'Holt-Winters'!$P$7 | H5: =_xlfn.FORECAST.ETS(A5,'Holt-Winters'!$B$2:$B$37,'Holt-Winters'!$A$2:$A$37,12)
A6: 46143 | B6: 5 | D6: =IF(C6="","",IF(ABS(C6-E6)<0.0005,"Correct","Try again")) | E6: =('Holt-Winters'!$H$37+B6*'Holt-Winters'!$K$37)*'Holt-Winters'!E30 | F6: =E6-1.96*'Holt-Winters'!$P$7 | G6: =E6+1.96*'Holt-Winters'!$P$7 | H6: =_xlfn.FORECAST.ETS(A6,'Holt-Winters'!$B$2:$B$37,'Holt-Winters'!$A$2:$A$37,12)
A7: 46174 | B7: 6 | D7: =IF(C7="","",IF(ABS(C7-E7)<0.0005,"Correct","Try again")) | E7: =('Holt-Winters'!$H$37+B7*'Holt-Winters'!$K$37)*'Holt-Winters'!E31 | F7: =E7-1.96*'Holt-Winters'!$P$7 | G7: =E7+1.96*'Holt-Winters'!$P$7 | H7: =_xlfn.FORECAST.ETS(A7,'Holt-Winters'!$B$2:$B$37,'Holt-Winters'!$A$2:$A$37,12)
A8: 46204 | B8: 7 | D8: =IF(C8="","",IF(ABS(C8-E8)<0.0005,"Correct","Try again")) | E8: =('Holt-Winters'!$H$37+B8*'Holt-Winters'!$K$37)*'Holt-Winters'!E32 | F8: =E8-1.96*'Holt-Winters'!$P$7 | G8: =E8+1.96*'Holt-Winters'!$P$7 | H8: =_xlfn.FORECAST.ETS(A8,'Holt-Winters'!$B$2:$B$37,'Holt-Winters'!$A$2:$A$37,12)
A9: 46235 | B9: 8 | D9: =IF(C9="","",IF(ABS(C9-E9)<0.0005,"Correct","Try again")) | E9: =('Holt-Winters'!$H$37+B9*'Holt-Winters'!$K$37)*'Holt-Winters'!E33 | F9: =E9-1.96*'Holt-Winters'!$P$7 | G9: =E9+1.96*'Holt-Winters'!$P$7 | H9: =_xlfn.FORECAST.ETS(A9,'Holt-Winters'!$B$2:$B$37,'Holt-Winters'!$A$2:$A$37,12)
A10: 46266 | B10: 9 | D10: =IF(C10="","",IF(ABS(C10-E10)<0.0005,"Correct","Try again")) | E10: =('Holt-Winters'!$H$37+B10*'Holt-Winters'!$K$37)*'Holt-Winters'!E34 | F10: =E10-1.96*'Holt-Winters'!$P$7 | G10: =E10+1.96*'Holt-Winters'!$P$7 | H10: =_xlfn.FORECAST.ETS(A10,'Holt-Winters'!$B$2:$B$37,'Holt-Winters'!$A$2:$A$37,12)
A11: 46296 | B11: 10 | D11: =IF(C11="","",IF(ABS(C11-E11)<0.0005,"Correct","Try again")) | E11: =('Holt-Winters'!$H$37+B11*'Holt-Winters'!$K$37)*'Holt-Winters'!E35 | F11: =E11-1.96*'Holt-Winters'!$P$7 | G11: =E11+1.96*'Holt-Winters'!$P$7 | H11: =_xlfn.FORECAST.ETS(A11,'Holt-Winters'!$B$2:$B$37,'Holt-Winters'!$A$2:$A$37,12)
A12: 46327 | B12: 11 | D12: =IF(C12="","",IF(ABS(C12-E12)<0.0005,"Correct","Try again")) | E12: =('Holt-Winters'!$H$37+B12*'Holt-Winters'!$K$37)*'Holt-Winters'!E36 | F12: =E12-1.96*'Holt-Winters'!$P$7 | G12: =E12+1.96*'Holt-Winters'!$P$7 | H12: =_xlfn.FORECAST.ETS(A12,'Holt-Winters'!$B$2:$B$37,'Holt-Winters'!$A$2:$A$37,12)
A13: 46357 | B13: 12 | D13: =IF(C13="","",IF(ABS(C13-E13)<0.0005,"Correct","Try again")) | E13: =('Holt-Winters'!$H$37+B13*'Holt-Winters'!$K$37)*'Holt-Winters'!E37 | F13: =E13-1.96*'Holt-Winters'!$P$7 | G13: =E13+1.96*'Holt-Winters'!$P$7 | H13: =_xlfn.FORECAST.ETS(A13,'Holt-Winters'!$B$2:$B$37,'Holt-Winters'!$A$2:$A$37,12)
A15: The band uses the standard deviation of the one-step errors (Holt-Winters!P7). FORECAST.ETS fits Excel's own additive version and chooses its parameters itself, so it will not match column E exactly.
