Workbook

Sheet Start here
A1: Project tracker and Gantt practice workbook
A3: Type your own formula in each yellow cell. The Check column tells you when it matches the green answer.
A4: Plan - each task's end date (start + duration - 1) and its status on the status date in cell K1.
A5: Gantt - the bars are conditional formatting: a day is shaded when it falls between a task's start and end.
A7: The tutorial: https://www.datahubpro.co.uk/tutorials/project-tracker-excel
A8: Want this on your own spreadsheet? Upload it at https://www.datahubpro.co.uk/try (free, no sign-up)
A10: Made with DataHub Pro

Sheet Plan
A1: Task | B1: Start | C1: Days | D1: % done | E1: Your turn: End | F1: Check | G1: Answer (live formula) | H1: Your turn: Status | I1: Check | J1: Answer (live formula) | L1: Status date | M1: 46458
A2: Scope and plan | B2: 46447 | C2: 3 | D2: 1 | F2: =IF(E2="","",IF(ABS(E2-G2)<0.0005,"Correct","Try again")) | G2: =B2+C2-1 | I2: =IF(H2="","",IF(H2=J2,"Correct","Try again")) | J2: =IF(D2=1,"Done",IF(G2<$M$1,"Late",IF(B2>$M$1,"Not started","In progress")))
A3: Data collection | B3: 46450 | C3: 5 | D3: 1 | F3: =IF(E3="","",IF(ABS(E3-G3)<0.0005,"Correct","Try again")) | G3: =B3+C3-1 | I3: =IF(H3="","",IF(H3=J3,"Correct","Try again")) | J3: =IF(D3=1,"Done",IF(G3<$M$1,"Late",IF(B3>$M$1,"Not started","In progress")))
A4: Build dashboard | B4: 46454 | C4: 6 | D4: 0.6 | F4: =IF(E4="","",IF(ABS(E4-G4)<0.0005,"Correct","Try again")) | G4: =B4+C4-1 | I4: =IF(H4="","",IF(H4=J4,"Correct","Try again")) | J4: =IF(D4=1,"Done",IF(G4<$M$1,"Late",IF(B4>$M$1,"Not started","In progress")))
A5: Review with finance | B5: 46457 | C5: 2 | D5: 0 | F5: =IF(E5="","",IF(ABS(E5-G5)<0.0005,"Correct","Try again")) | G5: =B5+C5-1 | I5: =IF(H5="","",IF(H5=J5,"Correct","Try again")) | J5: =IF(D5=1,"Done",IF(G5<$M$1,"Late",IF(B5>$M$1,"Not started","In progress")))
A6: Board report | B6: 46461 | C6: 3 | D6: 0 | F6: =IF(E6="","",IF(ABS(E6-G6)<0.0005,"Correct","Try again")) | G6: =B6+C6-1 | I6: =IF(H6="","",IF(H6=J6,"Correct","Try again")) | J6: =IF(D6=1,"Done",IF(G6<$M$1,"Late",IF(B6>$M$1,"Not started","In progress")))

Sheet Gantt
A1: Task | B1: 46447 | C1: 46448 | D1: 46449 | E1: 46450 | F1: 46451 | G1: 46452 | H1: 46453 | I1: 46454 | J1: 46455 | K1: 46456 | L1: 46457 | M1: 46458 | N1: 46459 | O1: 46460 | P1: 46461 | Q1: 46462 | R1: 46463 | S1: 46464 | T1: 46465
A2: =Plan!A2
A3: =Plan!A3
A4: =Plan!A4
A5: =Plan!A5
A6: =Plan!A6
A8: Change a start date or duration on Plan and the bars move.
